BEGIN:VCALENDAR
VERSION:2.0
PRODID:-//EmprenZona//ES
CALSCALE:GREGORIAN
METHOD:PUBLISH
BEGIN:VEVENT
UID:fair-19@emprenzona.com.ar
DTSTAMP:20260426T013416Z
DTSTART:20260606T120000
DTEND:20260607T200000
SUMMARY:Terror Fan FX
DESCRIPTION:Evento de terror con juegos\, laberintos y atracciones temáticas.\n\nLugar
 : Parque La Estación\, Güemes 700\, Avellaneda\n\nInstagram: @terrorfanf
 x\nVer más: https://ferias.emprenzona.com.ar/feria/terrorfanfx/terror-fan
 -fx/2026-06-06
LOCATION:Parque La Estación\, Güemes 700\, Avellaneda
URL:https://ferias.emprenzona.com.ar/feria/terrorfanfx/terror-fan-fx/2026-06-06
END:VEVENT
END:VCALENDAR
