BEGIN:VCALENDAR
VERSION:2.0
PRODID:-//EmprenZona//ES
CALSCALE:GREGORIAN
METHOD:PUBLISH
BEGIN:VEVENT
UID:fair-61@emprenzona.com.ar
DTSTAMP:20260426T013902Z
DTSTART:20260508T120000
DTEND:20260508T200000
SUMMARY:Lumina Feria
DESCRIPTION:Feria de emprendedores organizada por Lumina Feria.\n\nLugar: Valhöll Craf
 t Beer\, Del Valle Iberlucea 2928\, Lanús\n\nInstagram: @lumina.feria\nVe
 r más: https://ferias.emprenzona.com.ar/feria/lumina.feria/lumina-feria/2
 026-05-08
LOCATION:Valhöll Craft Beer\, Del Valle Iberlucea 2928\, Lanús
URL:https://ferias.emprenzona.com.ar/feria/lumina.feria/lumina-feria/2026-05-08
END:VEVENT
END:VCALENDAR
