BEGIN:VCALENDAR
VERSION:2.0
PRODID:-//EmprenZona//ES
CALSCALE:GREGORIAN
METHOD:PUBLISH
BEGIN:VEVENT
UID:fair-70@emprenzona.com.ar
DTSTAMP:20260426T013425Z
DTSTART:20260607T130000
DTEND:20260607T190000
SUMMARY:KPOP EN LA CIUDAD
DESCRIPTION:Evento de cultura pop y KPop en Lanús Este.\n\nHorario: 13 a 19 hs.\n\nLug
 ar: Av. 9 de Julio 1535\, Lanús Este\n\nInstagram: @la_comicosplayer\nVer
  más: https://ferias.emprenzona.com.ar/feria/la_comicosplayer/kpop-en-la-
 ciudad/2026-06-07
LOCATION:Av. 9 de Julio 1535\, Lanús Este
URL:https://ferias.emprenzona.com.ar/feria/la_comicosplayer/kpop-en-la-ciudad/2026-06-07
END:VEVENT
END:VCALENDAR
