BEGIN:VCALENDAR
VERSION:2.0
PRODID:-//EmprenZona//ES
CALSCALE:GREGORIAN
METHOD:PUBLISH
BEGIN:VEVENT
UID:fair-37@emprenzona.com.ar
DTSTAMP:20260426T013420Z
DTSTART:20260418T190000
DTEND:20260418T235900
SUMMARY:Stream Party
DESCRIPTION:Una noche de streaming\, gaming y cultura digital en Buenos Aires.\nDJ en v
 ivo\, emprendedores temáticos\, sorteos y mucho más. Entrada gratis.\n\n
 Lugar: Bartolomé Mitre 2552\, CABA\n\nInstagram: @jigoku.eventos\nVer má
 s: https://ferias.emprenzona.com.ar/feria/jigoku.eventos/stream-party/2026
 -04-18
LOCATION:Bartolomé Mitre 2552\, CABA
URL:https://ferias.emprenzona.com.ar/feria/jigoku.eventos/stream-party/2026-04-18
END:VEVENT
END:VCALENDAR
