BEGIN:VCALENDAR
VERSION:2.0
PRODID:-//EmprenZona//ES
CALSCALE:GREGORIAN
METHOD:PUBLISH
BEGIN:VEVENT
UID:fair-39@emprenzona.com.ar
DTSTAMP:20260425T230412Z
DTSTART:20260517T120000
DTEND:20260517T200000
SUMMARY:Retro Market
DESCRIPTION:El mercado retro de Jigoku: vinilo\, moda vintage\, coleccionables y arte p
 op de los 80/90.\nStands únicos\, música en vivo y la mejor onda retro e
 n CABA. Entrada gratis.\n\nLugar: Bartolomé Mitre 2552\, CABA\n\nInstagra
 m: @jigoku.eventos\nVer más: https://ferias.emprenzona.com.ar/feria/jigok
 u.eventos/retro-market/2026-05-17
LOCATION:Bartolomé Mitre 2552\, CABA
URL:https://ferias.emprenzona.com.ar/feria/jigoku.eventos/retro-market/2026-05-17
END:VEVENT
END:VCALENDAR
