BEGIN:VCALENDAR
VERSION:2.0
PRODID:-//EmprenZona//ES
CALSCALE:GREGORIAN
METHOD:PUBLISH
BEGIN:VEVENT
UID:fair-38@emprenzona.com.ar
DTSTAMP:20260425T230344Z
DTSTART:20260510T120000
DTEND:20260510T200000
SUMMARY:Random & KPop Stars
DESCRIPTION:La feria de cultura pop mÃ¡s grande de Buenos Aires vuelve con todo.\nArtis
 ta invitada: Bebepine. Stands de anime\, kpop\, diseÃ±o indie y gastronomÃ
 ­a. Entrada gratis.\n\nLugar: BartolomÃ© Mitre 2552\, CABA\n\nInstagram: @
 jigoku.eventos\nVer mÃ¡s: https://ferias.emprenzona.com.ar/feria/jigoku.ev
 entos/random-kpop-stars/2026-05-10
LOCATION:BartolomÃ© Mitre 2552\, CABA
URL:https://ferias.emprenzona.com.ar/feria/jigoku.eventos/random-kpop-stars/2026-05-10
END:VEVENT
END:VCALENDAR
