BEGIN:VCALENDAR
VERSION:2.0
PRODID:-//EmprenZona//ES
CALSCALE:GREGORIAN
METHOD:PUBLISH
BEGIN:VEVENT
UID:fair-60@emprenzona.com.ar
DTSTAMP:20260425T230410Z
DTSTART:20260425T100000
DTEND:20260425T200000
SUMMARY:Feria Honduras
DESCRIPTION:Feria Honduras. Sábados\, domingos y feriados de 10 a 20 hs en Honduras en
 tre Serrano y Thames\, Palermo\, CABA.\n\nLugar: Honduras entre Serrano y 
 Thames\, Palermo\, CABA\n\nInstagram: @feriahonduras_plazaserrano\nVer má
 s: https://ferias.emprenzona.com.ar/feria/feriahonduras_plazaserrano/feria
 -honduras/2026-04-25
LOCATION:Honduras entre Serrano y Thames\, Palermo\, CABA
URL:https://ferias.emprenzona.com.ar/feria/feriahonduras_plazaserrano/feria-honduras/2026-04-25
END:VEVENT
END:VCALENDAR
