BEGIN:VCALENDAR
VERSION:2.0
PRODID:-//EmprenZona//ES
CALSCALE:GREGORIAN
METHOD:PUBLISH
BEGIN:VEVENT
UID:fair-6@emprenzona.com.ar
DTSTAMP:20260425T230412Z
DTSTART:20260426T140000
DTEND:20260426T190000
SUMMARY:Feria Las amigas
DESCRIPTION:Feria de emprendedores organizada por Feria Las amigas.\n\nLugar: Valhöll 
 Craft Beer\, Del Valle Iberlucea 2928\, Lanús\n\nInstagram: @feria.lasami
 gas36\nVer más: https://ferias.emprenzona.com.ar/feria/feria.lasamigas36/
 feria-las-amigas/2026-04-26
LOCATION:Valhöll Craft Beer\, Del Valle Iberlucea 2928\, Lanús
URL:https://ferias.emprenzona.com.ar/feria/feria.lasamigas36/feria-las-amigas/2026-04-26
END:VEVENT
END:VCALENDAR
